BEGIN:VCALENDAR
VERSION:2.0
PRODID:-//147.100.242.15//NONSGML kigkonsult.se iCalcreator 2.41.92//
CALSCALE:GREGORIAN
UID:36393335-6531-4137-a131-376236613566
X-WR-TIMEZONE:Europe/Paris
BEGIN:VTIMEZONE
TZID:Europe/Paris
TZUNTIL:20231029T010000Z
BEGIN:STANDARD
TZNAME:CET
DTSTART:20211031T030000
TZOFFSETFROM:+0200
TZOFFSETTO:+0100
RDATE:20221030T030000
END:STANDARD
BEGIN:DAYLIGHT
TZNAME:CEST
DTSTART:20210328T020000
TZOFFSETFROM:+0100
TZOFFSETTO:+0200
RDATE:20220327T020000
RDATE:20230326T020000
END:DAYLIGHT
END:VTIMEZONE
BEGIN:VEVENT
UID:66343239-3665-4939-a230-353738613265
DTSTAMP:20260424T115529Z
DTSTART:20220315T070000Z
DTEND:20220317T170000Z
LOCATION:Rennes
SUMMARY:Advances in the analysis of riverine acoustic camera data
URL:https://fr-anacadir.workshop.inrae.fr
END:VEVENT
END:VCALENDAR
